BEGIN:VCALENDAR
VERSION:2.0
PRODID:-//Smidö - Mälarens Pärla - ECPv6.15.20//NONSGML v1.0//EN
CALSCALE:GREGORIAN
METHOD:PUBLISH
X-ORIGINAL-URL:https://xn--smid-8qa.se
X-WR-CALDESC:Händelser för Smidö - Mälarens Pärla
REFRESH-INTERVAL;VALUE=DURATION:PT1H
X-Robots-Tag:noindex
X-PUBLISHED-TTL:PT1H
BEGIN:VTIMEZONE
TZID:Europe/Stockholm
BEGIN:DAYLIGHT
TZOFFSETFROM:+0100
TZOFFSETTO:+0200
TZNAME:CEST
DTSTART:20220327T010000
END:DAYLIGHT
BEGIN:STANDARD
TZOFFSETFROM:+0200
TZOFFSETTO:+0100
TZNAME:CET
DTSTART:20221030T010000
END:STANDARD
BEGIN:DAYLIGHT
TZOFFSETFROM:+0100
TZOFFSETTO:+0200
TZNAME:CEST
DTSTART:20230326T010000
END:DAYLIGHT
BEGIN:STANDARD
TZOFFSETFROM:+0200
TZOFFSETTO:+0100
TZNAME:CET
DTSTART:20231029T010000
END:STANDARD
BEGIN:DAYLIGHT
TZOFFSETFROM:+0100
TZOFFSETTO:+0200
TZNAME:CEST
DTSTART:20240331T010000
END:DAYLIGHT
BEGIN:STANDARD
TZOFFSETFROM:+0200
TZOFFSETTO:+0100
TZNAME:CET
DTSTART:20241027T010000
END:STANDARD
END:VTIMEZONE
BEGIN:VEVENT
DTSTART;TZID=Europe/Stockholm:20230604T090000
DTEND;TZID=Europe/Stockholm:20230604T120000
DTSTAMP:20260425T222031
CREATED:20230103T140720Z
LAST-MODIFIED:20230103T140720Z
UID:2290-1685869200-1685880000@xn--smid-8qa.se
SUMMARY:Arbete med badbryggan
DESCRIPTION:Vi samlas vid barnbadet. Alla som vill och kan är välkomna!
URL:https://xn--smid-8qa.se/event/arbete-med-badbryggan/
LOCATION:Smidö
ORGANIZER;CN="Smid%C3%B6 Tomt%C3%A4garef%C3%B6rening":MAILTO:styrelsen@tomt.smido.se
END:VEVENT
BEGIN:VEVENT
DTSTART;VALUE=DATE:20230623
DTEND;VALUE=DATE:20230625
DTSTAMP:20260425T222031
CREATED:20230103T140900Z
LAST-MODIFIED:20240521T195144Z
UID:2293-1687478400-1687651199@xn--smid-8qa.se
SUMMARY:Midsommar
DESCRIPTION:Dags för det årliga Midsommarfirandet!
URL:https://xn--smid-8qa.se/event/midsommar/
LOCATION:Midsommarängen
ATTACH;FMTTYPE=image/jpeg:https://xn--smid-8qa.se/wp-content/uploads/2015/07/sommar-blommor.jpg
ORGANIZER;CN="Smid%C3%B6 Tomt%C3%A4garef%C3%B6rening":MAILTO:styrelsen@tomt.smido.se
END:VEVENT
END:VCALENDAR