BEGIN:VCALENDAR
VERSION:2.0
PRODID:-//Smidö - Mälarens Pärla - ECPv6.15.20//NONSGML v1.0//EN
CALSCALE:GREGORIAN
METHOD:PUBLISH
X-WR-CALNAME:Smidö - Mälarens Pärla
X-ORIGINAL-URL:https://xn--smid-8qa.se
X-WR-CALDESC:Händelser för Smidö - Mälarens Pärla
REFRESH-INTERVAL;VALUE=DURATION:PT1H
X-Robots-Tag:noindex
X-PUBLISHED-TTL:PT1H
BEGIN:VTIMEZONE
TZID:Europe/Stockholm
BEGIN:DAYLIGHT
TZOFFSETFROM:+0100
TZOFFSETTO:+0200
TZNAME:CEST
DTSTART:20210328T010000
END:DAYLIGHT
BEGIN:STANDARD
TZOFFSETFROM:+0200
TZOFFSETTO:+0100
TZNAME:CET
DTSTART:20211031T010000
END:STANDARD
BEGIN:DAYLIGHT
TZOFFSETFROM:+0100
TZOFFSETTO:+0200
TZNAME:CEST
DTSTART:20220327T010000
END:DAYLIGHT
BEGIN:STANDARD
TZOFFSETFROM:+0200
TZOFFSETTO:+0100
TZNAME:CET
DTSTART:20221030T010000
END:STANDARD
BEGIN:DAYLIGHT
TZOFFSETFROM:+0100
TZOFFSETTO:+0200
TZNAME:CEST
DTSTART:20230326T010000
END:DAYLIGHT
BEGIN:STANDARD
TZOFFSETFROM:+0200
TZOFFSETTO:+0100
TZNAME:CET
DTSTART:20231029T010000
END:STANDARD
BEGIN:DAYLIGHT
TZOFFSETFROM:+0100
TZOFFSETTO:+0200
TZNAME:CEST
DTSTART:20240331T010000
END:DAYLIGHT
BEGIN:STANDARD
TZOFFSETFROM:+0200
TZOFFSETTO:+0100
TZNAME:CET
DTSTART:20241027T010000
END:STANDARD
END:VTIMEZONE
BEGIN:VEVENT
DTSTART;TZID=Europe/Stockholm:20231210T130000
DTEND;TZID=Europe/Stockholm:20231210T150000
DTSTAMP:20260423T204441
CREATED:20231116T143237Z
LAST-MODIFIED:20231205T221629Z
UID:2452-1702213200-1702220400@xn--smid-8qa.se
SUMMARY:Julmarknad på Smidö
DESCRIPTION:Söndag den 10 december bjuder Tomtägareföreningen till “liten” Julmarknad.\n\nKl 13.00 till 15.00 är marknaden öppen vid föreningshuset. \nVi bjuder på Glögg och Pepparkakor. \nKom för att handla av vår lokala hantverkare\, dricka glögg\, eller bara prata lite med grannarna \nOm du är intresserad att deltaga som säljare kontakta undertecknad\, Dan Berg eller föreningen styrelsen@tomt.smido.se
URL:https://xn--smid-8qa.se/event/julmarknad-pa-smido/
LOCATION:Föreningslokalen\, Ringuddsslingan 7\, Bro\, 19791\, Sverige
ORGANIZER;CN="Smid%C3%B6 Tomt%C3%A4garef%C3%B6rening":MAILTO:styrelsen@tomt.smido.se
END:VEVENT
BEGIN:VEVENT
DTSTART;TZID=Europe/Stockholm:20231008T100000
DTEND;TZID=Europe/Stockholm:20231008T130000
DTSTAMP:20260423T204441
CREATED:20230103T141327Z
LAST-MODIFIED:20230103T141327Z
UID:2299-1696759200-1696770000@xn--smid-8qa.se
SUMMARY:Arbete med Båtbryggorna
DESCRIPTION:Alla som har bryggplats på Smidö samlas vid respektive brygga
URL:https://xn--smid-8qa.se/event/arbete-med-batbryggorna-3/
LOCATION:Smidö
ORGANIZER;CN="Smid%C3%B6 Tomt%C3%A4garef%C3%B6rening":MAILTO:styrelsen@tomt.smido.se
END:VEVENT
BEGIN:VEVENT
DTSTART;TZID=Europe/Stockholm:20231001T090000
DTEND;TZID=Europe/Stockholm:20231001T120000
DTSTAMP:20260423T204441
CREATED:20230103T141157Z
LAST-MODIFIED:20230103T141157Z
UID:2297-1696150800-1696161600@xn--smid-8qa.se
SUMMARY:Upptagning av Badbryggan
DESCRIPTION:Vi samlas vid Barnbadet. Alla som vill och kan är välkomna!
URL:https://xn--smid-8qa.se/event/upptagning-av-badbryggan/
LOCATION:Smidö
ORGANIZER;CN="Smid%C3%B6 Tomt%C3%A4garef%C3%B6rening":MAILTO:styrelsen@tomt.smido.se
END:VEVENT
BEGIN:VEVENT
DTSTART;TZID=Europe/Stockholm:20230923T090000
DTEND;TZID=Europe/Stockholm:20230923T130000
DTSTAMP:20260423T204441
CREATED:20230103T141034Z
LAST-MODIFIED:20230103T141034Z
UID:2295-1695459600-1695474000@xn--smid-8qa.se
SUMMARY:Allmänt arbete
DESCRIPTION:Vi samlas som vanligt i respektive arbetsområde.
URL:https://xn--smid-8qa.se/event/allmant-arbete-3/
LOCATION:Smidö
ORGANIZER;CN="Smid%C3%B6 Tomt%C3%A4garef%C3%B6rening":MAILTO:styrelsen@tomt.smido.se
END:VEVENT
BEGIN:VEVENT
DTSTART;TZID=Europe/Stockholm:20230723T100000
DTEND;TZID=Europe/Stockholm:20230723T130000
DTSTAMP:20260423T204441
CREATED:20230702T203510Z
LAST-MODIFIED:20230702T203510Z
UID:2396-1690106400-1690117200@xn--smid-8qa.se
SUMMARY:
DESCRIPTION:Extra medlemsmöte Smidö Tomtägareförening
URL:https://xn--smid-8qa.se/event/2396/
LOCATION:Midsommarängen
ORGANIZER;CN="Smid%C3%B6 Tomt%C3%A4garef%C3%B6rening":MAILTO:styrelsen@tomt.smido.se
END:VEVENT
BEGIN:VEVENT
DTSTART;TZID=Europe/Stockholm:20230708T090000
DTEND;TZID=Europe/Stockholm:20230708T130000
DTSTAMP:20260423T204441
CREATED:20230616T112009Z
LAST-MODIFIED:20230616T112009Z
UID:2383-1688806800-1688821200@xn--smid-8qa.se
SUMMARY:Städdag på våra stränder
DESCRIPTION:Vi möts som vanligt i våra arbetsområden för att snygga upp strandkanten och ta bort gamla båtvrak och upptagningsanordningar mm
URL:https://xn--smid-8qa.se/event/staddag-pa-vara-strander/
LOCATION:Smidö
ORGANIZER;CN="Smid%C3%B6 Tomt%C3%A4garef%C3%B6rening":MAILTO:styrelsen@tomt.smido.se
END:VEVENT
BEGIN:VEVENT
DTSTART;VALUE=DATE:20230623
DTEND;VALUE=DATE:20230625
DTSTAMP:20260423T204441
CREATED:20230103T140900Z
LAST-MODIFIED:20240521T195144Z
UID:2293-1687478400-1687651199@xn--smid-8qa.se
SUMMARY:Midsommar
DESCRIPTION:Dags för det årliga Midsommarfirandet!
URL:https://xn--smid-8qa.se/event/midsommar/
LOCATION:Midsommarängen
ATTACH;FMTTYPE=image/jpeg:https://xn--smid-8qa.se/wp-content/uploads/2015/07/sommar-blommor.jpg
ORGANIZER;CN="Smid%C3%B6 Tomt%C3%A4garef%C3%B6rening":MAILTO:styrelsen@tomt.smido.se
END:VEVENT
BEGIN:VEVENT
DTSTART;TZID=Europe/Stockholm:20230604T090000
DTEND;TZID=Europe/Stockholm:20230604T120000
DTSTAMP:20260423T204441
CREATED:20230103T140720Z
LAST-MODIFIED:20230103T140720Z
UID:2290-1685869200-1685880000@xn--smid-8qa.se
SUMMARY:Arbete med badbryggan
DESCRIPTION:Vi samlas vid barnbadet. Alla som vill och kan är välkomna!
URL:https://xn--smid-8qa.se/event/arbete-med-badbryggan/
LOCATION:Smidö
ORGANIZER;CN="Smid%C3%B6 Tomt%C3%A4garef%C3%B6rening":MAILTO:styrelsen@tomt.smido.se
END:VEVENT
BEGIN:VEVENT
DTSTART;TZID=Europe/Stockholm:20230507T100000
DTEND;TZID=Europe/Stockholm:20230507T130000
DTSTAMP:20260423T204441
CREATED:20230103T140512Z
LAST-MODIFIED:20230103T140512Z
UID:2288-1683453600-1683464400@xn--smid-8qa.se
SUMMARY:Arbete med bryggorna
DESCRIPTION:Alla som har bryggplats på Smidö samlas vid respektive brygga
URL:https://xn--smid-8qa.se/event/arbete-med-bryggorna/
LOCATION:Smidö
ORGANIZER;CN="Smid%C3%B6 Tomt%C3%A4garef%C3%B6rening":MAILTO:styrelsen@tomt.smido.se
END:VEVENT
BEGIN:VEVENT
DTSTART;TZID=Europe/Stockholm:20230430T100000
DTEND;TZID=Europe/Stockholm:20230430T120000
DTSTAMP:20260423T204441
CREATED:20230411T092438Z
LAST-MODIFIED:20230411T092438Z
UID:2316-1682848800-1682856000@xn--smid-8qa.se
SUMMARY:Årsmöte Smidö Vägsamfällighet
DESCRIPTION:Välkommen till årsmöte i Smidö Vägsamfällighet den 30 april kl 10.00. Vi håller hus i Härneviskolan\, Härnevi skolväg 10. \nOm du inte kan komma själv\, så kan du lämna fullmakt till ett ombud.
URL:https://xn--smid-8qa.se/event/arsmote-smido-vagsamfallighet/
LOCATION:Härneviskolan\, Härnevi skolväg 10\,\, Bro\, Sverige
ORGANIZER;CN="Smid%C3%B6 V%C3%A4gsamf%C3%A4llighet":MAILTO:vag@smido.se
END:VEVENT
BEGIN:VEVENT
DTSTART;TZID=Europe/Stockholm:20230423T100000
DTEND;TZID=Europe/Stockholm:20230423T130000
DTSTAMP:20260423T204441
CREATED:20221031T124131Z
LAST-MODIFIED:20230418T123145Z
UID:2261-1682244000-1682254800@xn--smid-8qa.se
SUMMARY:Årsmöte Smidö Tomtägareförening
DESCRIPTION:Vi har  årsmöte den 23 april i Härneviskolan. Tid 10.00 – 13.00
URL:https://xn--smid-8qa.se/event/arsmote-smido-tomtagareforening/
LOCATION:Härneviskolan\, Härnevi skolväg 10\,\, Bro\, Sverige
CATEGORIES:Medlemsmöten
ATTACH;FMTTYPE=image/jpeg:https://xn--smid-8qa.se/wp-content/uploads/2019/03/IMG_1713.jpg
ORGANIZER;CN="Smid%C3%B6 Tomt%C3%A4garef%C3%B6rening":MAILTO:styrelsen@tomt.smido.se
END:VEVENT
BEGIN:VEVENT
DTSTART;TZID=Europe/Stockholm:20230422T090000
DTEND;TZID=Europe/Stockholm:20230422T130000
DTSTAMP:20260423T204441
CREATED:20230418T123441Z
LAST-MODIFIED:20230418T123441Z
UID:2327-1682154000-1682168400@xn--smid-8qa.se
SUMMARY:Allmänt arbete
DESCRIPTION:På lördag den 22/4 är det allmänt arbete på våra allmänningar. Tiden är 9-13 och korv ca 13.15. Tiden är tillbaks där den var innan vi delade upp arbetet så att vissa lag arbetade förmiddag och andra eftermiddag.\nSamling i respektive område. Tag gärna med eget arbetsmaterial.\nVäl mött Styrelsen
URL:https://xn--smid-8qa.se/event/allmant-arbete-4/
LOCATION:Smidö
ORGANIZER;CN="Smid%C3%B6 Tomt%C3%A4garef%C3%B6rening":MAILTO:styrelsen@tomt.smido.se
END:VEVENT
BEGIN:VEVENT
DTSTART;TZID=Europe/Stockholm:20230422T090000
DTEND;TZID=Europe/Stockholm:20230422T130000
DTSTAMP:20260423T204441
CREATED:20230103T140233Z
LAST-MODIFIED:20230103T140233Z
UID:2286-1682154000-1682168400@xn--smid-8qa.se
SUMMARY:Allmänt arbete
DESCRIPTION:Vi samlas som vanligt i respektive arbetsområde. OBS att enligt stadgarna (Bilaga 1) så är arbetsplikten 2 x 4 timmar
URL:https://xn--smid-8qa.se/event/allmant-arbete-2/
LOCATION:Föreningslokalen\, Ringuddsslingan 7\, Bro\, 19791\, Sverige
ORGANIZER;CN="Smid%C3%B6 Tomt%C3%A4garef%C3%B6rening":MAILTO:styrelsen@tomt.smido.se
END:VEVENT
BEGIN:VEVENT
DTSTART;TZID=Europe/Stockholm:20221214T170000
DTEND;TZID=Europe/Stockholm:20221214T200000
DTSTAMP:20260423T204441
CREATED:20221019T151042Z
LAST-MODIFIED:20221019T151042Z
UID:2253-1671037200-1671048000@xn--smid-8qa.se
SUMMARY:Styrelsemöte Smidö Tomtägareförening
DESCRIPTION:Välkommen med dina frågor\, eller bara för att hälsa på styrelsen
URL:https://xn--smid-8qa.se/event/styrelsemote-smido-tomtagareforening-2/
LOCATION:Föreningslokalen\, Ringuddsslingan 7\, Bro\, 19791\, Sverige
ORGANIZER;CN="Smid%C3%B6 Tomt%C3%A4garef%C3%B6rening":MAILTO:styrelsen@tomt.smido.se
END:VEVENT
BEGIN:VEVENT
DTSTART;TZID=Europe/Stockholm:20221016T100000
DTEND;TZID=Europe/Stockholm:20221016T130000
DTSTAMP:20260423T204441
CREATED:20220817T093535Z
LAST-MODIFIED:20221009T074150Z
UID:2220-1665914400-1665925200@xn--smid-8qa.se
SUMMARY:Styrelsemöte Smidö Tomtägareförening
DESCRIPTION:
URL:https://xn--smid-8qa.se/event/styrelsemote-smido-tomtagareforening/
LOCATION:Smidö
ORGANIZER;CN="Smid%C3%B6 Tomt%C3%A4garef%C3%B6rening":MAILTO:styrelsen@tomt.smido.se
END:VEVENT
BEGIN:VEVENT
DTSTART;TZID=Europe/Stockholm:20221009T100000
DTEND;TZID=Europe/Stockholm:20221009T120000
DTSTAMP:20260423T204441
CREATED:20220817T094233Z
LAST-MODIFIED:20220817T094233Z
UID:2227-1665309600-1665316800@xn--smid-8qa.se
SUMMARY:Arbete med båtbryggorna
DESCRIPTION:
URL:https://xn--smid-8qa.se/event/arbete-med-batbryggorna-2/
LOCATION:Smidö
ORGANIZER;CN="Smid%C3%B6 Tomt%C3%A4garef%C3%B6rening":MAILTO:styrelsen@tomt.smido.se
END:VEVENT
BEGIN:VEVENT
DTSTART;TZID=Europe/Stockholm:20221002T090000
DTEND;TZID=Europe/Stockholm:20221002T120000
DTSTAMP:20260423T204441
CREATED:20220817T094106Z
LAST-MODIFIED:20220817T094133Z
UID:2224-1664701200-1664712000@xn--smid-8qa.se
SUMMARY:Arbete med badbryggan
DESCRIPTION:
URL:https://xn--smid-8qa.se/event/arbete-med-batbryggorna/
LOCATION:Smidö
ORGANIZER;CN="Smid%C3%B6 Tomt%C3%A4garef%C3%B6rening":MAILTO:styrelsen@tomt.smido.se
END:VEVENT
BEGIN:VEVENT
DTSTART;TZID=Europe/Stockholm:20220924T090000
DTEND;TZID=Europe/Stockholm:20220924T130000
DTSTAMP:20260423T204441
CREATED:20220817T094000Z
LAST-MODIFIED:20220817T094000Z
UID:2222-1664010000-1664024400@xn--smid-8qa.se
SUMMARY:Allmänt arbete
DESCRIPTION:Denna arbetsdag kommer vi bl.a att flytta allt båtskrot till infarten. \nOBS att vi arbetar 4 timmar (enligt stadgarna Bilaga 1)
URL:https://xn--smid-8qa.se/event/allmant-arbete/
LOCATION:Smidö
ORGANIZER;CN="Smid%C3%B6 Tomt%C3%A4garef%C3%B6rening":MAILTO:styrelsen@tomt.smido.se
END:VEVENT
BEGIN:VEVENT
DTSTART;TZID=Europe/Stockholm:20220702T160000
DTEND;TZID=Europe/Stockholm:20220702T170000
DTSTAMP:20260423T204441
CREATED:20220505T163044Z
LAST-MODIFIED:20220624T085434Z
UID:2151-1656777600-1656781200@xn--smid-8qa.se
SUMMARY:Helikopterflygning
DESCRIPTION:Även i år får vi möjlighet att flyga helikopter!
URL:https://xn--smid-8qa.se/event/helikopterflygning/
LOCATION:Midsommarängen
ORGANIZER;CN="Smid%C3%B6 Tomt%C3%A4garef%C3%B6rening":MAILTO:styrelsen@tomt.smido.se
END:VEVENT
BEGIN:VEVENT
DTSTART;VALUE=DATE:20220624
DTEND;VALUE=DATE:20220626
DTSTAMP:20260423T204441
CREATED:20220503T112946Z
LAST-MODIFIED:20220624T085328Z
UID:2144-1656028800-1656201599@xn--smid-8qa.se
SUMMARY:Midsommarfirande
DESCRIPTION:Äntligen får vi fira Midsommar som vanligt. Detaljerat program nedan
URL:https://xn--smid-8qa.se/event/midsommarfirande/
LOCATION:Midsommarängen
ORGANIZER;CN="Smid%C3%B6 Tomt%C3%A4garef%C3%B6rening":MAILTO:styrelsen@tomt.smido.se
END:VEVENT
BEGIN:VEVENT
DTSTART;TZID=Europe/Stockholm:20220618T100000
DTEND;TZID=Europe/Stockholm:20220618T130000
DTSTAMP:20260423T204441
CREATED:20220516T083007Z
LAST-MODIFIED:20220516T083007Z
UID:2178-1655546400-1655557200@xn--smid-8qa.se
SUMMARY:Extra föreningsmöte Tomtägareföreningen
DESCRIPTION:Vi har ett ett extra möte för att besluta om vi ska bygga ett nytt föreningshus\, agenda med all information kommer 14 dagar innan mötet
URL:https://xn--smid-8qa.se/event/extra-foreningsmote-tomtagareforeningen/
LOCATION:Midsommarängen
END:VEVENT
BEGIN:VEVENT
DTSTART;TZID=Europe/Stockholm:20220605T090000
DTEND;TZID=Europe/Stockholm:20220605T120000
DTSTAMP:20260423T204441
CREATED:20220529T195556Z
LAST-MODIFIED:20220530T061627Z
UID:2189-1654419600-1654430400@xn--smid-8qa.se
SUMMARY:Arbete med badbryggorna
DESCRIPTION:Nu på söndag ska vi lägga i badbryggorna. vi börjar kl 9.00. Det behövs mycket folk så alla som vill är välkomna att hjälpa till. Anmäl er på Facebook\, Smidö- grupp för boende eller via mail till styrelsen@tomt.smido.se.
URL:https://xn--smid-8qa.se/event/arbete-med-badbryggorna/
LOCATION:Smidö
ORGANIZER;CN="Smid%C3%B6 Tomt%C3%A4garef%C3%B6rening":MAILTO:styrelsen@tomt.smido.se
END:VEVENT
BEGIN:VEVENT
DTSTART;TZID=Europe/Stockholm:20220508T100000
DTEND;TZID=Europe/Stockholm:20220508T120000
DTSTAMP:20260423T204441
CREATED:20220502T134756Z
LAST-MODIFIED:20220503T111511Z
UID:2131-1652004000-1652011200@xn--smid-8qa.se
SUMMARY:Arbete med våra bryggor
DESCRIPTION:Nu är det dags för bryggarbete. Vi möts vid den brygga där din båt ligger.
URL:https://xn--smid-8qa.se/event/arbete-med-vara-bryggor/
LOCATION:Smidö
ORGANIZER;CN="Smid%C3%B6 Tomt%C3%A4garef%C3%B6rening":MAILTO:styrelsen@tomt.smido.se
END:VEVENT
END:VCALENDAR