BEGIN:VCALENDAR
VERSION:2.0
PRODID:-//Smidö - Mälarens Pärla - ECPv6.15.20//NONSGML v1.0//EN
CALSCALE:GREGORIAN
METHOD:PUBLISH
X-WR-CALNAME:Smidö - Mälarens Pärla
X-ORIGINAL-URL:https://xn--smid-8qa.se
X-WR-CALDESC:Händelser för Smidö - Mälarens Pärla
REFRESH-INTERVAL;VALUE=DURATION:PT1H
X-Robots-Tag:noindex
X-PUBLISHED-TTL:PT1H
BEGIN:VTIMEZONE
TZID:Europe/Stockholm
BEGIN:DAYLIGHT
TZOFFSETFROM:+0100
TZOFFSETTO:+0200
TZNAME:CEST
DTSTART:20250330T010000
END:DAYLIGHT
BEGIN:STANDARD
TZOFFSETFROM:+0200
TZOFFSETTO:+0100
TZNAME:CET
DTSTART:20251026T010000
END:STANDARD
BEGIN:DAYLIGHT
TZOFFSETFROM:+0100
TZOFFSETTO:+0200
TZNAME:CEST
DTSTART:20260329T010000
END:DAYLIGHT
BEGIN:STANDARD
TZOFFSETFROM:+0200
TZOFFSETTO:+0100
TZNAME:CET
DTSTART:20261025T010000
END:STANDARD
BEGIN:DAYLIGHT
TZOFFSETFROM:+0100
TZOFFSETTO:+0200
TZNAME:CEST
DTSTART:20270328T010000
END:DAYLIGHT
BEGIN:STANDARD
TZOFFSETFROM:+0200
TZOFFSETTO:+0100
TZNAME:CET
DTSTART:20271031T010000
END:STANDARD
END:VTIMEZONE
BEGIN:VEVENT
DTSTART;TZID=Europe/Stockholm:20260503T100000
DTEND;TZID=Europe/Stockholm:20260503T130000
DTSTAMP:20260423T220920
CREATED:20260330T083704Z
LAST-MODIFIED:20260330T083704Z
UID:2901-1777802400-1777813200@xn--smid-8qa.se
SUMMARY:Bryggarbetsdag
DESCRIPTION:Båtägarna möts vid respektive brygga
URL:https://xn--smid-8qa.se/event/bryggarbetsdag/
LOCATION:Smidö
ORGANIZER;CN="Smid%C3%B6 Tomt%C3%A4garef%C3%B6rening":MAILTO:styrelsen@tomt.smido.se
END:VEVENT
BEGIN:VEVENT
DTSTART;TZID=Europe/Stockholm:20260531T090000
DTEND;TZID=Europe/Stockholm:20260531T140000
DTSTAMP:20260423T220920
CREATED:20260330T084038Z
LAST-MODIFIED:20260330T084038Z
UID:2909-1780218000-1780236000@xn--smid-8qa.se
SUMMARY:Iläggning av badbryggan
DESCRIPTION:Kom till barnbadet och hjälp till vid iläggning av badbryggan mm. Vi börjar kl 9.00
URL:https://xn--smid-8qa.se/event/ilaggning-av-badbryggan/
LOCATION:Barnbadet
ORGANIZER;CN="Smid%C3%B6 Tomt%C3%A4garef%C3%B6rening":MAILTO:styrelsen@tomt.smido.se
END:VEVENT
BEGIN:VEVENT
DTSTART;VALUE=DATE:20260619
DTEND;VALUE=DATE:20260621
DTSTAMP:20260423T220920
CREATED:20260330T084308Z
LAST-MODIFIED:20260330T084308Z
UID:2911-1781827200-1781999999@xn--smid-8qa.se
SUMMARY:Midsommar
DESCRIPTION:Vi har ett traditionellt Midsommarfirande med dans kring stången\, lotterier\, café\, barnlekar etc.
URL:https://xn--smid-8qa.se/event/midsommar-2/
LOCATION:Midsommarängen
ORGANIZER;CN="Smid%C3%B6 Tomt%C3%A4garef%C3%B6rening":MAILTO:styrelsen@tomt.smido.se
END:VEVENT
BEGIN:VEVENT
DTSTART;TZID=Europe/Stockholm:20260919T090000
DTEND;TZID=Europe/Stockholm:20260919T130000
DTSTAMP:20260423T220920
CREATED:20260330T084518Z
LAST-MODIFIED:20260330T084518Z
UID:2913-1789808400-1789822800@xn--smid-8qa.se
SUMMARY:Höstarbetsdag
DESCRIPTION:Vi träffas i respektive arbetslag och möts efter arbetet vid föreningslokalen för korvgrillning
URL:https://xn--smid-8qa.se/event/hostarbetsdag/
LOCATION:Smidö
END:VEVENT
BEGIN:VEVENT
DTSTART;TZID=Europe/Stockholm:20260927T090000
DTEND;TZID=Europe/Stockholm:20260927T130000
DTSTAMP:20260423T220920
CREATED:20260330T084647Z
LAST-MODIFIED:20260330T084647Z
UID:2915-1790499600-1790514000@xn--smid-8qa.se
SUMMARY:Upptagning av badbryggan
DESCRIPTION:Nu är sommaren slut\, så vi möts vid barnbadet för att ta upp badbryggan mm. Vi börjar kl 9.00
URL:https://xn--smid-8qa.se/event/upptagning-av-badbryggan-2/
LOCATION:Barnbadet
ORGANIZER;CN="Smid%C3%B6 Tomt%C3%A4garef%C3%B6rening":MAILTO:styrelsen@tomt.smido.se
END:VEVENT
BEGIN:VEVENT
DTSTART;TZID=Europe/Stockholm:20261004T100000
DTEND;TZID=Europe/Stockholm:20261004T130000
DTSTAMP:20260423T220920
CREATED:20260330T084844Z
LAST-MODIFIED:20260330T084844Z
UID:2917-1791108000-1791118800@xn--smid-8qa.se
SUMMARY:Höstarbetsdag båtbryggorna
DESCRIPTION:Båtägarna möts vid respektive brygga för att göra erforderliga reparationer\, ta upp bommar mm. Vi börjar kl 10.00
URL:https://xn--smid-8qa.se/event/hostarbetsdag-batbryggorna/
LOCATION:Smidö
ORGANIZER;CN="Smid%C3%B6 Tomt%C3%A4garef%C3%B6rening":MAILTO:styrelsen@tomt.smido.se
END:VEVENT
END:VCALENDAR