BEGIN:VCALENDAR
VERSION:2.0
PRODID:-//Smidö - Mälarens Pärla - ECPv6.15.20//NONSGML v1.0//EN
CALSCALE:GREGORIAN
METHOD:PUBLISH
X-ORIGINAL-URL:https://xn--smid-8qa.se
X-WR-CALDESC:Händelser för Smidö - Mälarens Pärla
REFRESH-INTERVAL;VALUE=DURATION:PT1H
X-Robots-Tag:noindex
X-PUBLISHED-TTL:PT1H
BEGIN:VTIMEZONE
TZID:Europe/Stockholm
BEGIN:DAYLIGHT
TZOFFSETFROM:+0100
TZOFFSETTO:+0200
TZNAME:CEST
DTSTART:20250330T010000
END:DAYLIGHT
BEGIN:STANDARD
TZOFFSETFROM:+0200
TZOFFSETTO:+0100
TZNAME:CET
DTSTART:20251026T010000
END:STANDARD
BEGIN:DAYLIGHT
TZOFFSETFROM:+0100
TZOFFSETTO:+0200
TZNAME:CEST
DTSTART:20260329T010000
END:DAYLIGHT
BEGIN:STANDARD
TZOFFSETFROM:+0200
TZOFFSETTO:+0100
TZNAME:CET
DTSTART:20261025T010000
END:STANDARD
BEGIN:DAYLIGHT
TZOFFSETFROM:+0100
TZOFFSETTO:+0200
TZNAME:CEST
DTSTART:20270328T010000
END:DAYLIGHT
BEGIN:STANDARD
TZOFFSETFROM:+0200
TZOFFSETTO:+0100
TZNAME:CET
DTSTART:20271031T010000
END:STANDARD
END:VTIMEZONE
BEGIN:VEVENT
DTSTART;TZID=Europe/Stockholm:20261004T100000
DTEND;TZID=Europe/Stockholm:20261004T130000
DTSTAMP:20260424T005740
CREATED:20260330T084844Z
LAST-MODIFIED:20260330T084844Z
UID:2917-1791108000-1791118800@xn--smid-8qa.se
SUMMARY:Höstarbetsdag båtbryggorna
DESCRIPTION:Båtägarna möts vid respektive brygga för att göra erforderliga reparationer\, ta upp bommar mm. Vi börjar kl 10.00
URL:https://xn--smid-8qa.se/event/hostarbetsdag-batbryggorna/
LOCATION:Smidö
ORGANIZER;CN="Smid%C3%B6 Tomt%C3%A4garef%C3%B6rening":MAILTO:styrelsen@tomt.smido.se
END:VEVENT
END:VCALENDAR