BEGIN:VCALENDAR
VERSION:2.0
PRODID:-//Smidö - Mälarens Pärla - ECPv6.15.20//NONSGML v1.0//EN
CALSCALE:GREGORIAN
METHOD:PUBLISH
X-ORIGINAL-URL:https://xn--smid-8qa.se
X-WR-CALDESC:Händelser för Smidö - Mälarens Pärla
REFRESH-INTERVAL;VALUE=DURATION:PT1H
X-Robots-Tag:noindex
X-PUBLISHED-TTL:PT1H
BEGIN:VTIMEZONE
TZID:Europe/Stockholm
BEGIN:DAYLIGHT
TZOFFSETFROM:+0100
TZOFFSETTO:+0200
TZNAME:CEST
DTSTART:20250330T010000
END:DAYLIGHT
BEGIN:STANDARD
TZOFFSETFROM:+0200
TZOFFSETTO:+0100
TZNAME:CET
DTSTART:20251026T010000
END:STANDARD
BEGIN:DAYLIGHT
TZOFFSETFROM:+0100
TZOFFSETTO:+0200
TZNAME:CEST
DTSTART:20260329T010000
END:DAYLIGHT
BEGIN:STANDARD
TZOFFSETFROM:+0200
TZOFFSETTO:+0100
TZNAME:CET
DTSTART:20261025T010000
END:STANDARD
BEGIN:DAYLIGHT
TZOFFSETFROM:+0100
TZOFFSETTO:+0200
TZNAME:CEST
DTSTART:20270328T010000
END:DAYLIGHT
BEGIN:STANDARD
TZOFFSETFROM:+0200
TZOFFSETTO:+0100
TZNAME:CET
DTSTART:20271031T010000
END:STANDARD
END:VTIMEZONE
BEGIN:VEVENT
DTSTART;TZID=Europe/Stockholm:20260415T190000
DTEND;TZID=Europe/Stockholm:20260415T210000
DTSTAMP:20260423T184736
CREATED:20260330T212321Z
LAST-MODIFIED:20260330T212321Z
UID:2928-1776279600-1776286800@xn--smid-8qa.se
SUMMARY:Årsmöte 2026 i Smidö Vägsamfällighet
DESCRIPTION:Medlemmar och representanter för dessa i Smidö Vägsamfällighet kallas härmed till årsmöte enligt nedan:\nPlats: Drakudden\, Smidövägen 17\nTid: Onsdagen 15 april 2026\nKl 19.00
URL:https://xn--smid-8qa.se/event/arsmote-2026-i-smido-vagsamfallighet/
LOCATION:Drakudden\, Smidövägen 17\, Bro\, Sweden
ORGANIZER;CN="Smid%C3%B6 V%C3%A4gsamf%C3%A4llighet":MAILTO:vag@smido.se
END:VEVENT
END:VCALENDAR