BEGIN:VCALENDAR
VERSION:2.0
PRODID:-//Smidö - Mälarens Pärla - ECPv6.15.20//NONSGML v1.0//EN
CALSCALE:GREGORIAN
METHOD:PUBLISH
X-WR-CALNAME:Smidö - Mälarens Pärla
X-ORIGINAL-URL:https://xn--smid-8qa.se
X-WR-CALDESC:Händelser för Smidö - Mälarens Pärla
REFRESH-INTERVAL;VALUE=DURATION:PT1H
X-Robots-Tag:noindex
X-PUBLISHED-TTL:PT1H
BEGIN:VTIMEZONE
TZID:Europe/Stockholm
BEGIN:DAYLIGHT
TZOFFSETFROM:+0100
TZOFFSETTO:+0200
TZNAME:CEST
DTSTART:20240331T010000
END:DAYLIGHT
BEGIN:STANDARD
TZOFFSETFROM:+0200
TZOFFSETTO:+0100
TZNAME:CET
DTSTART:20241027T010000
END:STANDARD
BEGIN:DAYLIGHT
TZOFFSETFROM:+0100
TZOFFSETTO:+0200
TZNAME:CEST
DTSTART:20250330T010000
END:DAYLIGHT
BEGIN:STANDARD
TZOFFSETFROM:+0200
TZOFFSETTO:+0100
TZNAME:CET
DTSTART:20251026T010000
END:STANDARD
BEGIN:DAYLIGHT
TZOFFSETFROM:+0100
TZOFFSETTO:+0200
TZNAME:CEST
DTSTART:20260329T010000
END:DAYLIGHT
BEGIN:STANDARD
TZOFFSETFROM:+0200
TZOFFSETTO:+0100
TZNAME:CET
DTSTART:20261025T010000
END:STANDARD
END:VTIMEZONE
BEGIN:VEVENT
DTSTART;TZID=Europe/Stockholm:20250616T180000
DTEND;TZID=Europe/Stockholm:20250616T200000
DTSTAMP:20260424T110906
CREATED:20250531T092352Z
LAST-MODIFIED:20250531T092352Z
UID:2791-1750096800-1750104000@xn--smid-8qa.se
SUMMARY:Extrastämma i Vägsamfälligheten
DESCRIPTION:Kallelse finns i Medlemsbiblioteket
URL:https://xn--smid-8qa.se/event/extrastamma-i-vagsamfalligheten/
LOCATION:Föreningslokalen\, Ringuddsslingan 7\, Bro\, 19791\, Sverige
ORGANIZER;CN="Smid%C3%B6 V%C3%A4gsamf%C3%A4llighet":MAILTO:vag@smido.se
END:VEVENT
END:VCALENDAR